BEGIN:VCALENDAR
VERSION:2.0
PRODID:-//יפו העתיקה - ECPv4.9.10//NONSGML v1.0//EN
CALSCALE:GREGORIAN
METHOD:PUBLISH
X-WR-CALNAME:יפו העתיקה
X-ORIGINAL-URL:https://www.oldjaffa.co.il/en
X-WR-CALDESC:Events for יפו העתיקה
BEGIN:VTIMEZONE
TZID:UTC
BEGIN:STANDARD
TZOFFSETFROM:+0000
TZOFFSETTO:+0000
TZNAME:UTC
DTSTART:20190101T000000
END:STANDARD
END:VTIMEZONE
BEGIN:VEVENT
DTSTART;VALUE=DATE:20190421
DTEND;VALUE=DATE:20190423
DTSTAMP:20210926T151520
CREATED:20190402T070622Z
LAST-MODIFIED:20190402T070622Z
UID:3233-1555804800-1555977599@www.oldjaffa.co.il
SUMMARY:A Family Pesach/Passover | Old Jaffa Hosts the Tel Aviv Museum of Art
DESCRIPTION:Art workshops and activities for children\, tours\, art and design fair\, and more. \nApril 21-22 | 10:00-17:00  \nKikar Kdumim and Jaffa Port \nFree admission! \n
URL:https://www.oldjaffa.co.il/en/event/a-family-pesach-passover-old-jaffa-hosts-the-tel-aviv-museum-of-art/
END:VEVENT
END:VCALENDAR