BEGIN:VCALENDAR
VERSION:2.0
PRODID:-//החברה לפיתוח יפו העתיקה - ECPv4.9.10//NONSGML v1.0//EN
CALSCALE:GREGORIAN
METHOD:PUBLISH
X-WR-CALNAME:החברה לפיתוח יפו העתיקה
X-ORIGINAL-URL:https://www.oldjaffa.co.il
X-WR-CALDESC:אירועים ל החברה לפיתוח יפו העתיקה
BEGIN:VTIMEZONE
TZID:UTC
BEGIN:STANDARD
TZOFFSETFROM:+0000
TZOFFSETTO:+0000
TZNAME:UTC
DTSTART:20190101T000000
END:STANDARD
END:VTIMEZONE
BEGIN:VEVENT
DTSTART;TZID=UTC:20190907T203000
DTEND;TZID=UTC:20190907T223000
DTSTAMP:20210524T231720
CREATED:20190807T190744Z
LAST-MODIFIED:20190923T094925Z
UID:3872-1567888200-1567895400@www.oldjaffa.co.il
SUMMARY: אופרה בכיכר
DESCRIPTION:האופרה שרה בכיכר קדומים\nשלושה קונצרטים קלילים במוצאי שבת באווירה הקסומה של כיכר קדומים ביפו\nלהיטי אופרה מקפיצים בשילוב להיטים מעולם הזמר הקל והאהוב בכל העולם\n\n  \n7 בספטמבר \nויווה איטליה \nהמלחינים האיטלקים הגדולים ורדי ופוצ'יני יפגשו את השירים הנפוליטניים המופלאים כמו O SOLE MIO ובחזרה לסוריינטו \n14 בספטמבר \nמאופרה למחזמר  \nשירים ממחזות זמר אהובים כמו גבירתי הנאווה\, סיפור הפרברים \,פנטום האופרה ועלובי החיים בשילוב להיטי אופרה מוכרים ואהובים. \n21 בספטמבר \nאהבה בפריס \nפריס עיר האורות \, עיר של אהבה וגם כאב. מסע מהאופרות לה טרוויאטה ולה בוהם ששאבו את השראתן מפריס. ועד השנסונים המרגשים\, הכואבים והחושניים. \n\n
URL:https://www.oldjaffa.co.il/event/%d7%90%d7%95%d7%a4%d7%a8%d7%94-%d7%91%d7%9b%d7%99%d7%9b%d7%a8/
ATTACH;FMTTYPE=image/jpeg:https://www.oldjaffa.co.il/wp-content/uploads/2019/08/Shirlyhodrotshield02.jpg
END:VEVENT
END:VCALENDAR