BEGIN:VCALENDAR
VERSION:2.0
PRODID:-//החברה לפיתוח יפו העתיקה - ECPv4.9.10//NONSGML v1.0//EN
CALSCALE:GREGORIAN
METHOD:PUBLISH
X-WR-CALNAME:החברה לפיתוח יפו העתיקה
X-ORIGINAL-URL:https://www.oldjaffa.co.il
X-WR-CALDESC:אירועים ל החברה לפיתוח יפו העתיקה
BEGIN:VTIMEZONE
TZID:UTC
BEGIN:STANDARD
TZOFFSETFROM:+0000
TZOFFSETTO:+0000
TZNAME:UTC
DTSTART:20190101T000000
END:STANDARD
END:VTIMEZONE
BEGIN:VEVENT
DTSTART;TZID=UTC:20190420T160000
DTEND;TZID=UTC:20190420T210000
DTSTAMP:20210509T032526
CREATED:20190115T114318Z
LAST-MODIFIED:20190115T114510Z
UID:2711-1555776000-1555794000@www.oldjaffa.co.il
SUMMARY:טנגו רחוב בכיכר קדומים
DESCRIPTION:לא משנה אם אתם מומחים או מתחילים\, הצטרפו אלינו להרקדת טנגו מלאת תשוקה בכיכר קדומים\, כשברקע השקיעה היפה של יפו העתיקה. \n  \n\n			\n				\n			\n				\n				טנגו רחוב. צילום: יעקב זק\n				\n			\n				\n			\n				\n				טנגו רחוב. צילום: יעקב זק\n				\n			\n				\n			\n				\n				טנגו רחוב. צילום: יעקב זק\n				\n		\n\n
URL:https://www.oldjaffa.co.il/event/%d7%98%d7%a0%d7%92%d7%95-%d7%a8%d7%97%d7%95%d7%91-%d7%91%d7%9b%d7%99%d7%9b%d7%a8-%d7%a7%d7%93%d7%95%d7%9e%d7%99%d7%9d-%d7%90%d7%a4%d7%a8%d7%99%d7%9c/
ATTACH;FMTTYPE=image/jpeg:https://www.oldjaffa.co.il/wp-content/uploads/2018/01/29354382_1728097723900511_2932162887782396733_o.jpg
END:VEVENT
END:VCALENDAR