BEGIN:VCALENDAR
VERSION:2.0
PRODID:-//החברה לפיתוח יפו העתיקה - ECPv4.9.10//NONSGML v1.0//EN
CALSCALE:GREGORIAN
METHOD:PUBLISH
X-WR-CALNAME:החברה לפיתוח יפו העתיקה
X-ORIGINAL-URL:https://www.oldjaffa.co.il
X-WR-CALDESC:אירועים ל החברה לפיתוח יפו העתיקה
BEGIN:VTIMEZONE
TZID:UTC
BEGIN:STANDARD
TZOFFSETFROM:+0000
TZOFFSETTO:+0000
TZNAME:UTC
DTSTART:20190101T000000
END:STANDARD
END:VTIMEZONE
BEGIN:VEVENT
DTSTART;TZID=UTC:20190204T210000
DTEND;TZID=UTC:20190204T230000
DTSTAMP:20210524T231804
CREATED:20190130T191155Z
LAST-MODIFIED:20190130T191155Z
UID:2746-1549314000-1549321200@www.oldjaffa.co.il
SUMMARY:"מזמור חג המולד" בתיאטרון הסימטה
DESCRIPTION:בתיאטרון מעלים את סיפורו של סקרוג'. דרך הסיפור מביאים את אי הצדק החברתי והשסע המעמדי הקיים בחברה. הסיפור מסופר בסגנון תיאטרון יווני כשהמקהלה מובילה את העלילה מאת צ'ארלס דיקנס \nפרטים באתר תיאטרון הסימטה \nמזל דגים 8 \n
URL:https://www.oldjaffa.co.il/event/%d7%9e%d7%96%d7%9e%d7%95%d7%a8-%d7%97%d7%92-%d7%94%d7%9e%d7%95%d7%9c%d7%93-%d7%91%d7%aa%d7%99%d7%90%d7%98%d7%a8%d7%95%d7%9f-%d7%94%d7%a1%d7%99%d7%9e%d7%98%d7%94-3/
ATTACH;FMTTYPE=image/jpeg:https://www.oldjaffa.co.il/wp-content/uploads/2019/01/Mizmor-Chag-HaMolad-Zwecker-141.jpg
END:VEVENT
END:VCALENDAR