BEGIN:VCALENDAR
VERSION:2.0
PRODID:-//החברה לפיתוח יפו העתיקה - ECPv4.9.10//NONSGML v1.0//EN
CALSCALE:GREGORIAN
METHOD:PUBLISH
X-WR-CALNAME:החברה לפיתוח יפו העתיקה
X-ORIGINAL-URL:https://www.oldjaffa.co.il
X-WR-CALDESC:אירועים ל החברה לפיתוח יפו העתיקה
BEGIN:VTIMEZONE
TZID:UTC
BEGIN:STANDARD
TZOFFSETFROM:+0000
TZOFFSETTO:+0000
TZNAME:UTC
DTSTART:20200101T000000
END:STANDARD
END:VTIMEZONE
BEGIN:VEVENT
DTSTART;TZID=UTC:20200827T183000
DTEND;TZID=UTC:20200827T223000
DTSTAMP:20210502T033932
CREATED:20200824T104314Z
LAST-MODIFIED:20201202T130642Z
UID:4773-1598553000-1598567400@www.oldjaffa.co.il
SUMMARY:ספינינג בקהילה
DESCRIPTION:הצטברה בכם אנרגיה שצריך להוציא?\nבואו לספינינג בקהילה 🚲 \nביום חמישי ה-27.8 > מקומות נבחרים ברחבי העיר יהפכו לערב אחד לסטודיו ספינינג אנרגטי באוויר הפתוח! \nהלוקיישנים > רחבת הבימה\, כיכר דיזנגוף\, היכל מנורה\, מרכז שוסטר והנציגה היפואית המכובדת – גן הפסגה 🌳 \n* הפעילות תתקיים בהתאם להנחיות משרד הבריאות של עד 20 משתתפים * \nהאירוע מתקיים בשיתוף רשות הספורט בתל-אביב יפו ~ \nלפרטים וכרטיסים > https://bit.ly/2Y9jwPx \n
URL:https://www.oldjaffa.co.il/event/%d7%a1%d7%a4%d7%99%d7%a0%d7%99%d7%a0%d7%92-%d7%91%d7%a7%d7%94%d7%99%d7%9c%d7%94/
ATTACH;FMTTYPE=image/jpeg:https://www.oldjaffa.co.il/wp-content/uploads/2020/08/WhatsApp-Image-2020-08-24-at-13.40.14.jpeg
END:VEVENT
END:VCALENDAR