BEGIN:VCALENDAR
VERSION:2.0
PRODID:-//החברה לפיתוח יפו העתיקה - ECPv4.9.10//NONSGML v1.0//EN
CALSCALE:GREGORIAN
METHOD:PUBLISH
X-WR-CALNAME:החברה לפיתוח יפו העתיקה
X-ORIGINAL-URL:https://www.oldjaffa.co.il
X-WR-CALDESC:אירועים ל החברה לפיתוח יפו העתיקה
BEGIN:VTIMEZONE
TZID:UTC
BEGIN:STANDARD
TZOFFSETFROM:+0000
TZOFFSETTO:+0000
TZNAME:UTC
DTSTART:20190101T000000
END:STANDARD
END:VTIMEZONE
BEGIN:VEVENT
DTSTART;TZID=UTC:20190421T100000
DTEND;TZID=UTC:20190421T160000
DTSTAMP:20210509T032602
CREATED:20190403T140655Z
LAST-MODIFIED:20190403T140655Z
UID:3252-1555840800-1555862400@www.oldjaffa.co.il
SUMMARY:פסח לכל המשפחה ביפו העתיקה עם יריד שישיפו  - הכניסה חופשית
DESCRIPTION:שישיפו בעתיקה במתכונת חג מיוחדת!\nבמהלך כל חול המועד פסח יתארח יריד "שישיפו" בעתיקה בטיילת מפרץ שלמה וכיכר קדומים – אמנים ומעצבים\, אמני רחוב\, בריזה מלטפת מהים ונוף עוצר נשימה לחופי תל אביב. \nהכניסה חופשית! \nבין דוכני היריד אותם מפעילים האמנים עצמם – ציור\, עיצוב מוצר\, מוצרים אקולוגים\, אקססוריז\, מעצבי תכשיטים\, אמני קרמיקה\, עיצוב לבית\, תיקים\, נרות מיוחדים ואפילו סוקולנטים. \nראשון – שישי 21-26/4\nטיילת מפרץ שלמה וכיכר קדומים יפו העתיקה. \n
URL:https://www.oldjaffa.co.il/event/%d7%a4%d7%a1%d7%97-%d7%9c%d7%9b%d7%9c-%d7%94%d7%9e%d7%a9%d7%a4%d7%97%d7%94-%d7%91%d7%99%d7%a4%d7%95-%d7%94%d7%a2%d7%aa%d7%99%d7%a7%d7%94-%d7%a2%d7%9d-%d7%99%d7%a8%d7%99%d7%93-%d7%a9%d7%99%d7%a9%d7%99/2019-04-21/
ATTACH;FMTTYPE=image/png:https://www.oldjaffa.co.il/wp-content/uploads/2019/04/איוונט-שישיפו-e1552423963509.png
END:VEVENT
END:VCALENDAR