BEGIN:VCALENDAR
VERSION:2.0
PRODID:-//החברה לפיתוח יפו העתיקה - ECPv4.9.10//NONSGML v1.0//EN
CALSCALE:GREGORIAN
METHOD:PUBLISH
X-WR-CALNAME:החברה לפיתוח יפו העתיקה
X-ORIGINAL-URL:https://www.oldjaffa.co.il
X-WR-CALDESC:אירועים ל החברה לפיתוח יפו העתיקה
BEGIN:VTIMEZONE
TZID:UTC
BEGIN:STANDARD
TZOFFSETFROM:+0000
TZOFFSETTO:+0000
TZNAME:UTC
DTSTART:20200101T000000
END:STANDARD
END:VTIMEZONE
BEGIN:VEVENT
DTSTART;TZID=UTC:20200224T200000
DTEND;TZID=UTC:20200224T220000
DTSTAMP:20210515T051209
CREATED:20200125T175745Z
LAST-MODIFIED:20200125T175754Z
UID:4401-1582574400-1582581600@www.oldjaffa.co.il
SUMMARY:פריד אל אטרש فريد الأطرش - מחזה מוזיקלי בתיאטרון יפו
DESCRIPTION:מחזה מוזיקלי בכיכובו של הזמר זיו יחזקאל – לכרטיסים\n \n"חוזר מוקסם מהקברט על חייו של פריד אל אטרש\,  בתיאטרון יפו. סיפור חייו של הזמר המצרי סורי\, משוחק על ידי צוות שחקנים יהודי ערבי\, שזה בונוס בפני עצמו. זמרים עם יכולת ווקאלית אדירה\, זיו יחזקאל למשל\, וחוויה גדולה. לי זה היה ערב נוסטלגי מרגש כי גדלתי על השירים האלה\, אבל גם אשתי שממש לא הכירה אותם\, נסחפה. כבוד לתאטרון יפו ליוצרים ולמבצעים שמנגישים תרבות ערבית לכולנו". אמנון לוי –  26/618 FBקברט יפו מציג את סיפור אהבותיו וחייו של הזמר המצרי הנודע פריד אל-אטרש. החל כנגן בקברט של מאדם בדיעה בסיאני בקהיר\, דרך הקשר המיוחד עם אחותו אסמהאן\, הזמרת המבטיחה שנהרגה בצעירותה\, המשך בפריצה כזמר וכשחקן קולנוע\, דרך הרומנים עם הרקדנית סמיה גמאל\,\nהמלכה נרימן והזמרת הישראלית מאיה קאזאביאנקה\nועד הציפייה שאום כולת'ום תשיר מלחניו..\n       \nהקברט המוזיקלי משלב קטעי וידאו מקוריים עם שירה חיה משירי פריד אל-אטרש בביצוע זיו יחזקאל שנודע בביצועיו לשירי זמרים מצריים ומופיע בארץ\, בחו"ל וברשות הפלסטינית.\n \nעם: זיו יחזקאל\, ראודה סלימן\, זיוואר בהלול\, אריק משעלי\, הדר דדון\nכתיבה ובימוי: יגאל עזרתי  \nטקסטים נוספים: עדי מור\, ראודה סלימן\nיעוץ דרמטורגי: עדן אוליאל\, עלמה גניהר  \nעיצוב: אורי און\, תלבושות: סנדרה סכראן\nתאורה: זיו וולושין\nצילום סטילס: רדי רובינשטיין\nכוראוגרפיה: הדר דדון ונאוה אהרוני\nניהול הצגה: זכריני חצור\,  עריכת וידאו: עאדל אמסיס  \nיעוץ אמנותי: גבי אלדור\, יעוץ ומיתוג: אלי גרינפלד\n\n
URL:https://www.oldjaffa.co.il/event/%d7%a4%d7%a8%d7%99%d7%93-%d7%90%d7%9c-%d7%90%d7%98%d7%a8%d7%a9-%d9%81%d8%b1%d9%8a%d8%af-%d8%a7%d9%84%d8%a3%d8%b7%d8%b1%d8%b4-%d7%9e%d7%97%d7%96%d7%94-%d7%9e%d7%95%d7%96%d7%99%d7%a7%d7%9c%d7%99-2/
ATTACH;FMTTYPE=image/jpeg:https://www.oldjaffa.co.il/wp-content/uploads/2019/12/20180301160547468990005a9808bb72ef7R146ScwTlt9MUnrcdkEO2wzQjcYTWf1DblRIZtTw8k0jHenWaJN576ctpR1g1nXGv.jpg
END:VEVENT
END:VCALENDAR