BEGIN:VCALENDAR
VERSION:2.0
PRODID:-//החברה לפיתוח יפו העתיקה - ECPv4.9.10//NONSGML v1.0//EN
CALSCALE:GREGORIAN
METHOD:PUBLISH
X-WR-CALNAME:החברה לפיתוח יפו העתיקה
X-ORIGINAL-URL:https://www.oldjaffa.co.il
X-WR-CALDESC:אירועים ל החברה לפיתוח יפו העתיקה
BEGIN:VTIMEZONE
TZID:UTC
BEGIN:STANDARD
TZOFFSETFROM:+0000
TZOFFSETTO:+0000
TZNAME:UTC
DTSTART:20210101T000000
END:STANDARD
END:VTIMEZONE
BEGIN:VEVENT
DTSTART;TZID=UTC:20210929T210000
DTEND;TZID=UTC:20210929T230000
DTSTAMP:20211004T083442
CREATED:20210923T133958Z
LAST-MODIFIED:20210923T135058Z
UID:5051-1632949200-1632956400@www.oldjaffa.co.il
SUMMARY:קולנוע הפסגה ביפו העתיקה ★ רוקי ★ רביעי 22.9 ★ הכניסה חופשית!
DESCRIPTION:הקרנות סרטים ביפו העתיקה // מתחת לכוכבים\, מול הנוף הכי יפה והבריזה הכי שווה // ימי רביעי // 21:00 // הכניסה חופשית! \nסוגרים את ספיישל הספורט שלנו עם סרט קאלט ספורטיבי ומעורר השראה במיוחד >>> רוקי \n\nרוקי | Rocky\n(ארה"ב\, 1976)\n\nרוקי בלבואה (סילבסטר סטאלון)\, הוא מתאגרף חצי-מקצועי בפילדלפיה\, אשר נבחר באופן שרירותי להתמודד עם אלוף העולם במשקל כבד אפולו קריד (קארל וויתרס). בלבואה מתכונן אל הקרב כאל קרב חייו\, בעוד שקריד מתייחס לקרב כאל בדיחה. מטרתו של בלבואה היא אפילו לא לנצח\, אלא רק להישאר עומד במשך 15 סיבובים – דבר שאף מתאגרף אחר לא הצליח לעשות כנגד קריד בעבר. בו בזמן הוא מתאהב בבחורה שעובדת בחנות החיות המקומית\, אדריאן\, ומחזר אחריה במרץ. זוכה שלושה פרסי אוסקר לסרט הטוב ביותר\, הבמאי הטוב ביותר והעריכה הטובה ביותר\, וכן פרס גלובוס הזהב לסרט הטוב ביותר.\nאל תדאגו\,\nבאוקטובר דאגנו לכם לסדרה נוספת סופר שווה! תמשיכו לעקוב \nשימו לב > האירוע מתקיים בהתאם להנחיות משרד הבריאות\, הכניסה תתאפשר בהצגת תו ירוק. \n
URL:https://www.oldjaffa.co.il/event/%d7%a8%d7%95%d7%a7%d7%99/
ATTACH;FMTTYPE=image/jpeg:https://www.oldjaffa.co.il/wp-content/uploads/2021/09/סרטי-ספורט_fb_cover2-1.jpg
END:VEVENT
END:VCALENDAR