BEGIN:VCALENDAR
VERSION:2.0
PRODID:-//החברה לפיתוח יפו העתיקה - ECPv4.9.10//NONSGML v1.0//EN
CALSCALE:GREGORIAN
METHOD:PUBLISH
X-WR-CALNAME:החברה לפיתוח יפו העתיקה
X-ORIGINAL-URL:https://www.oldjaffa.co.il
X-WR-CALDESC:אירועים ל החברה לפיתוח יפו העתיקה
BEGIN:VTIMEZONE
TZID:UTC
BEGIN:STANDARD
TZOFFSETFROM:+0000
TZOFFSETTO:+0000
TZNAME:UTC
DTSTART:20180101T000000
END:STANDARD
END:VTIMEZONE
BEGIN:VEVENT
DTSTART;VALUE=DATE:20181201
DTEND;VALUE=DATE:20181202
DTSTAMP:20210515T221509
CREATED:20181111T163925Z
LAST-MODIFIED:20181211T100128Z
UID:2473-1543622400-1543708799@www.oldjaffa.co.il
SUMMARY:פרויקט שירת הים של גיל שוחט - מפגש שני
DESCRIPTION:\nיפו העתיקה. סטודיו אבן עתיק מעל הנמל התנכי. פסנתר כנף קונצרטנטי. תצוגה של מאות פרטי אספנות מרחבי העולם. \nקונצרט – רסיטל מוסבר. הרצאה. קטעי שירה בהשתתפות הקהל. אינטימיות אינטלקטואלית שאין דומה לה. קפה\, מאפה\, שמפניה וגבינות. \nכל אלה – בהובלתו ונגינתו של מאסטרו גיל שוחט. \nקונספט חדש לסדרת הרסיטלים האינטימית ואהובת הקהל. מידי שבת בבוקר יתקיים בסטודיו הפרטי והאינטימי של גיל שוחט ביפו העתיקה קונצרט – הרצאה – מפגש תרבותי ורוחני בהשתתפות הקהל. מפגש יוצא דופן זה מכונה על ידי שוחט: שירת הים – המילים והצלילים כגלים וחול הים – מפגשי תרבות ומחשבה דרך אומנות המוזיקה והשירה. \nבכל מפגש בוחר שוחט נושא\, אותו מציג בראי התרבות והיצירה\, דרכו בונה את היצירות המוזיקאליות המבוצעות במלואן על הפסנתר עם הסבר\, ותוך כדי הקראת שירים ופואמות על ידי הקהל. מובטחת לקהל חוויה ראשונית ושונה בתכלית מאולמות המופעים והקונצרטים הרגילים. \nהקהל מתבקש להביא איתו ולקרוא באירוע פואמות\, שירים\, פזמונים או קטעי פרוזה הקשורים לנושא כל אירוע. \n\n\n\nמפגש שני – 1.12.18\n\nאירוטיקה\n10:30 קפה\, מאפה\, שמפניה וגבינות \n11:00 מופע\, הרצאה והקראת שירים בהשתתפות הקהל \nאירוטיקה\nעל האירוטיקה בראי האומנות והמוזיקה.\nיצירות הרסיטל: סוויטה ברגמסק של דביוסי\, גאספאר הלילה של ראוול\, פרלודים של רחמנינוב\nכרטיסים למפגש שני – https://eventbuzz.co.il/lp/event/gwarm\n\nמפגש שלישי – 8.12.18\nhttps://eventbuzz.co.il/lp/event/oarzp \nמפגש רביעי – 15.12.18\nhttps://eventbuzz.co.il/lp/event/pxcso \nמפגש חמישי – 29.12.18\nhttps://eventbuzz.co.il/lp/event/fxgkn \nלרכישת כרטיס אחד לכל חמשת המפגשים בהנחה משמעותית:\nhttps://eventbuzz.co.il/lp/event/hkfip \n​מיקום: הסטודיו של גיל שוחט \n\n\nרחוב נתיב המזלות 11​\, יפו העתיקה \n\n  \n
URL:https://www.oldjaffa.co.il/event/%d7%a8%d7%a1%d7%99%d7%98%d7%9c%d7%99%d7%9d-%d7%90%d7%99%d7%a0%d7%98%d7%99%d7%9e%d7%99%d7%99%d7%9d-%d7%a2%d7%9d-%d7%92%d7%99%d7%9c-%d7%a9%d7%95%d7%97%d7%98-2-2/
ATTACH;FMTTYPE=image/jpeg:https://www.oldjaffa.co.il/wp-content/uploads/2018/03/f2ce3aef08119cf152ba880d456789cdf8902ff062f55138ca8b4cd20e9e7575dd304ae4....jpg
END:VEVENT
END:VCALENDAR