BEGIN:VCALENDAR
VERSION:2.0
PRODID:-//החברה לפיתוח יפו העתיקה - ECPv4.9.10//NONSGML v1.0//EN
CALSCALE:GREGORIAN
METHOD:PUBLISH
X-WR-CALNAME:החברה לפיתוח יפו העתיקה
X-ORIGINAL-URL:https://www.oldjaffa.co.il
X-WR-CALDESC:אירועים ל החברה לפיתוח יפו העתיקה
BEGIN:VTIMEZONE
TZID:UTC
BEGIN:STANDARD
TZOFFSETFROM:+0000
TZOFFSETTO:+0000
TZNAME:UTC
DTSTART:20180101T000000
END:STANDARD
END:VTIMEZONE
BEGIN:VEVENT
DTSTART;TZID=UTC:20181116T120000
DTEND;TZID=UTC:20181116T150000
DTSTAMP:20211021T035516
CREATED:20181027T201222Z
LAST-MODIFIED:20181125T181142Z
UID:2388-1542369600-1542380400@www.oldjaffa.co.il
SUMMARY:שבוע האיור בסטודיו פופ אפ אמן לילך מדר - יוון הפלסטית
DESCRIPTION:\nאביב קלר (צייר ואמן רקמה) ולילך מדר (צלמת ואמנית קולאז׳) מעניקים פרשנות חדשה לדימויים מתוך ספר רפרודוקציות של פסלי אבן יוונים\, שיצא לאור בציריך בשנת 1942 בשם Archaische Plastik der Griechen. \nשני האמנים\, שעוסקים בטכניקות קראפט עמלניות\, מציגים את הפרשנויות שלהם על דימויים נבחרים מתוך הספר\, אם כמצע רדי־מייד ואם כבסיס חזותי. \n  \n  \nסמטת מזל דגים 12\, יפו העתיקה \nאוצר: ינאי גבע \nבימים ב׳-ה׳ 19:00-12:00; \nו׳ 16:00-11:00; שבת 19:00-12:00 \nאירוע פתיחה: שישי\, 16.11\, 12:00 \n  \n  \n \n
URL:https://www.oldjaffa.co.il/event/%d7%a9%d7%91%d7%95%d7%a2-%d7%94%d7%90%d7%99%d7%95%d7%a8-%d7%91%d7%a1%d7%98%d7%95%d7%93%d7%99%d7%95-%d7%a4%d7%95%d7%a4-%d7%90%d7%a4-%d7%90%d7%9e%d7%9f-%d7%9c%d7%99%d7%9c%d7%9a-%d7%9e%d7%93%d7%a8/
ATTACH;FMTTYPE=image/jpeg:https://www.oldjaffa.co.il/wp-content/uploads/2018/10/יוון-הפלסטית-לילך-מדר-JPG-1.jpg
END:VEVENT
END:VCALENDAR