BEGIN:VCALENDAR
VERSION:2.0
PRODID:-//החברה לפיתוח יפו העתיקה - ECPv4.9.10//NONSGML v1.0//EN
CALSCALE:GREGORIAN
METHOD:PUBLISH
X-WR-CALNAME:החברה לפיתוח יפו העתיקה
X-ORIGINAL-URL:https://www.oldjaffa.co.il
X-WR-CALDESC:אירועים ל החברה לפיתוח יפו העתיקה
BEGIN:VTIMEZONE
TZID:UTC
BEGIN:STANDARD
TZOFFSETFROM:+0000
TZOFFSETTO:+0000
TZNAME:UTC
DTSTART:20190101T000000
END:STANDARD
END:VTIMEZONE
BEGIN:VEVENT
DTSTART;TZID=UTC:20190402T200000
DTEND;TZID=UTC:20190402T220000
DTSTAMP:20210515T221547
CREATED:20190330T092418Z
LAST-MODIFIED:20190330T092552Z
UID:3156-1554235200-1554242400@www.oldjaffa.co.il
SUMMARY:תיאטרון יפו מציג: מחכים לגודו
DESCRIPTION:"…הפקה מרגשת ומרתקת של תיאטרון יפו… אגרוף אומנותי לבטן של הצופים של ימינו… משחקם של רסאן אשקר כאסטרגון ומוראד חסן כולדימיר משעשע\, מצוין ואמין… משחקו של מנשה נוי כפוצו מגיע לשיא איכותו… דורון תבורי נפלא בכניעותו\, מדהים במונולוג שהוא נושא ושובר לב בסיום… ומי שאינו יודע מה זה ״מחכים לגודו״ ילך ויבוא ליפו\, ויקבל מחזה גאוני בהצגה נפלאה שבה יפו מציבה מראה אמנותית לחיפה המתעוררת מדו קיום ארוך." צבי גורן "הבמה". \nמאת: סמואל בקט \nבימוי: אילן רונן \nעם: דורון תבורי\, מנשה נוי\, מורד חסן\, רסאן אשקר \n  \nלרכישת כרטיסים \n  \n  \nצילום: רדי רובינשטיין \n
URL:https://www.oldjaffa.co.il/event/%d7%aa%d7%99%d7%90%d7%98%d7%a8%d7%95%d7%9f-%d7%99%d7%a4%d7%95-%d7%9e%d7%a6%d7%99%d7%92-%d7%9e%d7%97%d7%9b%d7%99%d7%9d-%d7%9c%d7%92%d7%95%d7%93%d7%95-24/
ATTACH;FMTTYPE=image/jpeg:https://www.oldjaffa.co.il/wp-content/uploads/2018/06/מחכים-לגודו-צלם-רדי-רובינשטיין-0174-2.jpg
END:VEVENT
END:VCALENDAR