BEGIN:VCALENDAR
VERSION:2.0
PRODID:-//החברה לפיתוח יפו העתיקה - ECPv4.9.10//NONSGML v1.0//EN
CALSCALE:GREGORIAN
METHOD:PUBLISH
X-WR-CALNAME:החברה לפיתוח יפו העתיקה
X-ORIGINAL-URL:https://www.oldjaffa.co.il
X-WR-CALDESC:אירועים ל החברה לפיתוח יפו העתיקה
BEGIN:VTIMEZONE
TZID:UTC
BEGIN:STANDARD
TZOFFSETFROM:+0000
TZOFFSETTO:+0000
TZNAME:UTC
DTSTART:20190101T000000
END:STANDARD
END:VTIMEZONE
BEGIN:VEVENT
DTSTART;TZID=UTC:20190312T203000
DTEND;TZID=UTC:20190312T220000
DTSTAMP:20210515T140113
CREATED:20190130T191615Z
LAST-MODIFIED:20190130T191615Z
UID:2753-1552422600-1552428000@www.oldjaffa.co.il
SUMMARY:תיאטרון יפו מציג: רומיאו וג'ולייטה روميو وجوليت
DESCRIPTION:\n\n\nהמחזה הנצחי של שייקספיר מקבל מימד אקטואלי במיוחד בהפקה דו-לשונית\, בערבית ובעברית. אהבתם של זוג צעירים משני צידיו של סכסוך פוליטי עקוב מדם. \nמאת: וויליאם שייקספיר \nעיבוד ובימוי: דורי אנגל \nשחקנים: עמי ויינברג\, קובי זיסלין\, סובחי חוסרי\, עדי לב\, עירית נתן-בנדק\,\nראודה סלימאן\, לויס עבד אל משיח\, מתן פרמינגר\, מוחמד קונדוס\, בהט קלצ'י. \nתפאורה ותלבושות: פרידה שהם \nתאורה: מיכאל צ'רניאבסקי ואינה מלכין \nמוסיקה: מוחמד קונדוס \nתנועה: טל קון \nהדרכה לשונית בערבית: עבד נאטור \nמנהל הפקה: שי לוי \nתרגום: עברית – דורי פרנס\, ערבית – מואנס טהא חסיין \n\n\nמחיר רגיל: 80 ₪\nסטודנט/ גמלאי: 65 ₪\n\n\n\n\nפרטים וכרטיסים באתר תיאטרון יפו\n
URL:https://www.oldjaffa.co.il/event/%d7%aa%d7%99%d7%90%d7%98%d7%a8%d7%95%d7%9f-%d7%99%d7%a4%d7%95-%d7%9e%d7%a6%d7%99%d7%92-%d7%a8%d7%95%d7%9e%d7%99%d7%90%d7%95-%d7%95%d7%92%d7%95%d7%9c%d7%99%d7%99%d7%98%d7%94-%d8%b1%d9%88%d9%85%d9%8a-3/
ATTACH;FMTTYPE=image/jpeg:https://www.oldjaffa.co.il/wp-content/uploads/2019/01/20190121113259401347005c4591cb62551rlpqKps7gkG5Z7R9oaM77T45gi4R5kiT5PpvMaG3VxFkf9EdjsoAlqTm8UhxApezv.jpg
END:VEVENT
END:VCALENDAR