BEGIN:VCALENDAR
VERSION:2.0
PRODID:-//החברה לפיתוח יפו העתיקה - ECPv4.9.10//NONSGML v1.0//EN
CALSCALE:GREGORIAN
METHOD:PUBLISH
X-WR-CALNAME:החברה לפיתוח יפו העתיקה
X-ORIGINAL-URL:https://www.oldjaffa.co.il
X-WR-CALDESC:אירועים ל החברה לפיתוח יפו העתיקה
BEGIN:VTIMEZONE
TZID:UTC
BEGIN:STANDARD
TZOFFSETFROM:+0000
TZOFFSETTO:+0000
TZNAME:UTC
DTSTART:20190101T000000
END:STANDARD
END:VTIMEZONE
BEGIN:VEVENT
DTSTART;TZID=UTC:20191019T113000
DTEND;TZID=UTC:20191019T133000
DTSTAMP:20210515T140230
CREATED:20191013T120840Z
LAST-MODIFIED:20191013T122047Z
UID:4110-1571484600-1571491800@www.oldjaffa.co.il
SUMMARY:תערוכה ב'אתר': ליהי חן ואורי זא״ב סגל מתארחים בתערוכה 'הצעת הגשה'
DESCRIPTION:\nליהי חן ואורי זא״ב סגל מתארחים ב״הצעת הגשה״ של האמנית מיה שרבני.\nיום שבת\, 19.10 \n11:30-12:30 \nמה אפשר לפסל מספר בישול? איך לעקוב אחרי מתכונים כדי שיצא קולאג׳? מתי ראיתם ממולאים מנייר? האמנית ליהי חן מתארחת בתערוכה של מיה שרבני לפעולה משותפת של יצירה בנייר. חוברות וסיפרי הבישול משמשים כחומר גלם באמצעות טכנולוגיית נייר פשוטה של ׳פופ-אפ׳\, מספריים ודבק. נשתמש במתכונים כהנחייה ליצור יחד עבודת פיסול חדשה של דו מימד שצובר נפח ורוצה להיות תלת מימד. מוזמנים להגיע ולהצטרף אלינו\, לשאול שאלות ולתרום לעשייה שלנו. זוהי אינה סדנת יצירה קלאסית אלא הזדמנות להצטרף לפרקטיקה מהסטודיו של האמניות * חומרי הגלם ישארו זמינים ליצירה חופשית עבור מבקרי התערוכה בהמשך היום.\n12:30-13:30\nעם טוסטר קטן ולב ענק אורי זא״ב סגל מגיע להתארח בתערוכה ולהפיץ בה ניחוח של גבינה מותכת. בסוף מכל המתכונים המסובכים פשוט צריך ביס של טוסט קלאסי. יהיה הרבה גלוטן והרבה גבינה צהובה. בלי להתנצל.\nחומרי גלם: לחם לבן פרוס\, גבינה צהובה. לשדרוג: חמאה\, קטשופ וזייתים. להכנה: עורמים בעדינות ומחכים בסבלנות זהירות זה חם!\n\nהכניסה חופשית\, מספר המקומות מוגבל.אתר\, טיילת מפרץ שלמה 10\, יפו העתיקה. \n\n\n  \n  \n \n
URL:https://www.oldjaffa.co.il/event/%d7%aa%d7%a2%d7%a8%d7%95%d7%9b%d7%94-%d7%91%d7%90%d7%aa%d7%a8-%d7%9c%d7%99%d7%94%d7%99-%d7%97%d7%9f-%d7%95%d7%90%d7%95%d7%a8%d7%99-%d7%96%d7%90%d7%b4%d7%91-%d7%a1%d7%92%d7%9c-%d7%9e%d7%aa%d7%90/
ATTACH;FMTTYPE=image/jpeg:https://www.oldjaffa.co.il/wp-content/uploads/2019/10/73103124_3088191264530203_473034847439290368_n.jpg
END:VEVENT
END:VCALENDAR