BEGIN:VCALENDAR
VERSION:2.0
PRODID:-//החברה לפיתוח יפו העתיקה - ECPv4.9.10//NONSGML v1.0//EN
CALSCALE:GREGORIAN
METHOD:PUBLISH
X-WR-CALNAME:החברה לפיתוח יפו העתיקה
X-ORIGINAL-URL:https://www.oldjaffa.co.il
X-WR-CALDESC:אירועים ל החברה לפיתוח יפו העתיקה
BEGIN:VTIMEZONE
TZID:UTC
BEGIN:STANDARD
TZOFFSETFROM:+0000
TZOFFSETTO:+0000
TZNAME:UTC
DTSTART:20180101T000000
END:STANDARD
END:VTIMEZONE
BEGIN:VEVENT
DTSTART;VALUE=DATE:20181030
DTEND;VALUE=DATE:20190310
DTSTAMP:20211021T035442
CREATED:20181027T200709Z
LAST-MODIFIED:20181224T130051Z
UID:2383-1540857600-1552175999@www.oldjaffa.co.il
SUMMARY:תערוכה בגלריה שארלוט - Data Dating
DESCRIPTION:Data Dating \nמה זה אומר לאהוב בעידן האינטרנט? \nתערוכה חדשה בגלריה שארלוט לאמנות דיגיטלית \nכיכר קדומים 14 \nהכניסה חופשית \n  \nפתיחה חגיגית: 30.10 בשעות 21:00-18:00 \nנעילת התערוכה: 9.3.2019 \n\n
URL:https://www.oldjaffa.co.il/event/%d7%aa%d7%a2%d7%a8%d7%95%d7%9b%d7%94-%d7%97%d7%93%d7%a9%d7%94-%d7%91%d7%92%d7%9c%d7%a8%d7%99%d7%94-%d7%a9%d7%90%d7%a8%d7%9c%d7%95%d7%98-data-dating/
ATTACH;FMTTYPE=image/jpeg:https://www.oldjaffa.co.il/wp-content/uploads/2018/10/tomgalle2.jpeg
END:VEVENT
END:VCALENDAR