BEGIN:VCALENDAR
VERSION:2.0
PRODID:-//החברה לפיתוח יפו העתיקה - ECPv4.9.10//NONSGML v1.0//EN
CALSCALE:GREGORIAN
METHOD:PUBLISH
X-WR-CALNAME:החברה לפיתוח יפו העתיקה
X-ORIGINAL-URL:https://www.oldjaffa.co.il
X-WR-CALDESC:אירועים ל החברה לפיתוח יפו העתיקה
BEGIN:VTIMEZONE
TZID:UTC
BEGIN:STANDARD
TZOFFSETFROM:+0000
TZOFFSETTO:+0000
TZNAME:UTC
DTSTART:20210101T000000
END:STANDARD
END:VTIMEZONE
BEGIN:VEVENT
DTSTART;TZID=UTC:20210729T200000
DTEND;TZID=UTC:20210918T200000
DTSTAMP:20210930T125605
CREATED:20210726T142030Z
LAST-MODIFIED:20210803T110309Z
UID:4941-1627588800-1631995200@www.oldjaffa.co.il
SUMMARY:מעבר לגבולות הגוף ★ המחלקה לעיצוב אופנה שנקר ★ בגלריית הרחוב ביפו העתיקה
DESCRIPTION:גלריית הרחוב ביפו העתיקה מציגה >>\n★ מעבר לגבולות הגוף ★\nבוגרי המחלקה לעיצוב אופנה בשנקר תשפ"א מציגים את עבודות הגמר שלהם ב-60 קופסאות אור בסמטאות יפו העתיקה!\nאוצר > רונן לוין\nפתיחה חגיגית >> יום חמישי ה-29.7 // 20:00 // קפה קדם\, מזל דגים 1\, יפו העתיקה // תקלוט: ZIV\nהתערוכה פתוחה 24/7 במהלך כל חודש אוגוסט בסמטאות מזל דגים ומזל אריה – הכניסה חופשית! \n★ ★ ★ \nהתערוכה "מעבר לגבולות הגוף" מציגה את 34 קולקציות הגמר של הסטודנטים מהמחלקה לעיצוב אופנה בשנקר\, המסיימים מסע אקדמי של ארבע שנים יצירתיות\, מטלטלות\, סוערות\, מקומיות ובינלאומיות. \nקולקציות הגמר מגלמות גישה דינאמית ורגישה לאדם ולזמן\, שפע היצירות המעוצבות מתעסקות בעולם הסובב את הנושאים הבוערים של התקופה והדור ומציגות קולקציות בעלות אמירה ייחודית\, ביקורתית\, רגישה ורלוונטית מתמיד. \nיצירת זהות אינדיבידואלית מול ייצוג וירטואלי\, התבוננות בטבע והתערבות מחשבתית עיצובית ומקיימת לקידום איזון אקולוגי\, חיבור בין גוף\, מרחב\, מבנה\, חומר\, תורה ובית. בדיקת היחסים בין חוץ ופנים\, אינטימי וציבורי\, שכתוב של העבר תוך שמירה על ערך תרבותי\, רגשי ורוחני. החופש ליצור\, לטעות\, להיות מי שאני\, לפרק\, להרכיב מחדש תוך מבחן השליטה והכאוס\, בחינה מחדש של הגבולות המגדריים\, הדתיים המגזרים\, מיניות אלטרנטיבית וייחודית מול פגיעות נפשיות\, מעקב אחר תהליכים חברתיים המלווים במחקר אחר מוטיבים מקומיים כמו השכונה והמוסיקה המקומית או פריטי אופנה אייקונים בפרשנות וזווית ראייה אישית. \nהתפר האחרון בלימודיהם פוגש את הבוגרים חוזרים למקורות המשפחה והבית: לאמונה\, למסורת\, ליצירת דת חדשה או לחילוניות גמורה\, הבדידות שנכפתה עלינו בשנה האחרונה מול חיפוש השייכות\, העלייה הגדולה מול התרבות המזרחית הכה ישראלית\, מילוי הריק והריחוק החברתי\, אופנה טבעית ערכית ואיטית מול עולם דיגיטלי ומלאכותי שלעיתים אף משלב כוחות ומחבר את גבולות שני העולמות. נקודת מבטם העכשווית של הסטודנטים מציגה בנוסף את המתח בין הבגד לבין גבולות הגוף\, תוך יצירת מארג חדש של נושאים חקרניים\, סביבתיים\, אישיים וחזותיים לעולם בו אנו חיים. \nצילום> עידו לביא\nמשתתפים.ות >> אבירם פימה\, אפק פאריזת\, איה גישורי\, אלכסנדרה זלצר\, גל אוזן\, דניאל אפשטיין\, דנית אבלגון\, זהר בן סימון\, טלי ריצ'מן\, יעל מיכל ברקוביץ׳\, ירדן חנוכה\, לי מארי\, לירז ליאופולד\, לרה דרור\, מאיה שריד\, נויה רביב\, ניקה יעקובוב\, עדי טל\, עדן משה\, עוז עשור\, עומר שיפריס\, רועי ברדס\, רותם יצחקי\, רותם כהן\, רז פרג\, ריבי אביבי\, רן גרבר\, רננה טסלר\, שון רובין\, שיר בן שמואל\, שיר דני\, שקד לבנה \n★ ★ ★ \n★ מעבר לגבולות ההשראה ★\nתערוכת פופ-אפ בגלריה מזל דגים 5 // לשלושה סופי שבוע בלבד!!!\nלצד התערוכה בקופסאות האור תפתח תערוכת פופ-אפ מיוחדת\, אשר תציג את תהליכי העבודה של הסטודנטים: מרגע היוולדו של הניצוץ הרעיוני\, דרך פיתוחו לכדי שפה עיצובית ועד ביצוע הדגמים בשפה תלת ממדית בטכניקות של דיגום ותפירה.\nבחלל הגלריה יוצגו חומרי השראה\, ספרי סקיצות\, איורים\, בדים ופיתוחי בדים שהיוו את הבסיס וההשראה לקולקציות הבוגרים שמוצגות בתוך קופסאות האור. גם תערוכה זו היא באוצרותו של רונן לוין\, מרצה בכיר במחלקה לעיצוב אופנה ב"שנקר"\, והיא נותנת הצצה מקרוב לתהליך היצירה ולעולמם הפנימי של הבוגרים ומביאה זווית נוספת על היצירה ועיצוב הקולקציות של דור העתיד באופנה הישראלית.\nימים ושעות פתיחה (תערוכת הפופ-אפ):\n★ חמישי 29.7: 20:00-23:00 | שישי 30.7: 10:00-16:00 | שבת 31.7: 10:00-20:00\n★ חמישי 5.8: 16:00-21:00 | שישי 6.8: 10:00-16:00 | שבת 7.8: 10:00-20:00\n★ חמישי 12.8: 16:00-21:00 | שישי 13.8: 10:00-16:00 | שבת 14.8: 10:00-20:00 \nכתובת> סמטת מזל דגים 5\, יפו העתיקה \n★★★ \n
URL:https://www.oldjaffa.co.il/event/%d7%9e%d7%a2%d7%91%d7%a8-%d7%9c%d7%92%d7%91%d7%95%d7%9c%d7%95%d7%aa-%d7%94%d7%92%d7%95%d7%a3/
ATTACH;FMTTYPE=image/jpeg:https://www.oldjaffa.co.il/wp-content/uploads/2021/07/invitation-Shenkar.jpg
END:VEVENT
BEGIN:VEVENT
DTSTART;TZID=UTC:20210826T200000
DTEND;TZID=UTC:20211028T200000
DTSTAMP:20210930T125605
CREATED:20210823T065403Z
LAST-MODIFIED:20210823T065720Z
UID:5011-1630008000-1635451200@www.oldjaffa.co.il
SUMMARY:פרויקט Square 1 | נקודת ההתחלה | 26-28.08
DESCRIPTION:פרויקט Square 1 הוא חלל שיצרנו כדי שנוכל להשתהות\, לנשום\, להתבונן\, להגיב לתלאות ולטלטלות ולהציע אפשרות של תקווה. האמנים.ות המשתתפים.ות מציגים יצירות שנוצרו באותו פורמט\, על גבי נייר מרובע שגבולותיו מסמלים את קירות הבתים אליהם נסוגנו ואת המקלטים בהם הסתתרנו. הצטרפו אלינו ל-Square 1\, נקודת ההתחלה. יחד\, נבקר במרחב שבו אפשר ליצור דיאלוג ולדמיין אפשרויות חדשות.\n\n✦ פתיחה: יום חמישי 26.8 // 20:00 // גלריה לוטן\, מזל אריה 19 ✦\n\nבאירוע הפתיחה –  ציבי גבע\, ליאור זלמנסון וניצץ מינץ יקריאו משירתם\, וג'וי ברנרד תציג עבודת וידאו ופרפורמנס מחול שנוצר במיוחד עבור הפרויקט.\n\n\nאוצרות> ליטל מגדיש\, ג'וי ברנרד\n\n\nשעות פתיחה נוספות>\nיום שישי: 27.8 10:00-16:00\nיום שבת: 28.8 10:00-20:00\n\n
URL:https://www.oldjaffa.co.il/event/rooms-2/
ATTACH;FMTTYPE=image/jpeg:https://www.oldjaffa.co.il/wp-content/uploads/2021/08/רמי-מימון.jpg
END:VEVENT
BEGIN:VEVENT
DTSTART;TZID=UTC:20210819T200000
DTEND;TZID=UTC:20211009T140000
DTSTAMP:20210930T125605
CREATED:20210815T135158Z
LAST-MODIFIED:20210823T065522Z
UID:4996-1629403200-1633788000@www.oldjaffa.co.il
SUMMARY:חדרים | שמונה תערוכות יחיד | 19.8-9.10
DESCRIPTION:חדרים – שמונה אמנים הוזמנו להציג שמונה תערוכות יחיד אשר נוצרו במיוחד עבור חללי הארטיס רזידנסי ביפו העתיקה.\nטל אמיתי-לביא\, נדב ויסמן\, דנה יואלי\, שי יחזקאלי\, אמיר נוה\, תומר ספיר\, אסף רהט וטל שושן.\nזוהי הזדמנות לאמנים לחשוף תהליכי יצירה שבדרך כלל נסתרים מהעין\, פרוייקטים ועבודות חדשות.\nאוצרת: נירה יצחקי \n✦ פתיחה: יום חמישי 19.8 // 20:00 // מזל תאומים 4 ✦ \nהתערוכה תהיה פתוחה בין התאריכים 19.8.21-9.10.21\nשעות פתיחה של התערוכה: ה' 12:00-17:00 // שישי\, שבת: 11:00-14:00 \n
URL:https://www.oldjaffa.co.il/event/rooms/
ATTACH;FMTTYPE=image/jpeg:https://www.oldjaffa.co.il/wp-content/uploads/2021/08/Rooms_TomerSapir.jpg
END:VEVENT
END:VCALENDAR